BEGIN:VCALENDAR
VERSION:2.0
PRODID:-//VVL Garden Club - ECPv6.15.20//NONSGML v1.0//EN
CALSCALE:GREGORIAN
METHOD:PUBLISH
X-ORIGINAL-URL:https://vvlgardenclub.org
X-WR-CALDESC:Events for VVL Garden Club
REFRESH-INTERVAL;VALUE=DURATION:PT1H
X-Robots-Tag:noindex
X-PUBLISHED-TTL:PT1H
BEGIN:VTIMEZONE
TZID:UTC
BEGIN:STANDARD
TZOFFSETFROM:+0000
TZOFFSETTO:+0000
TZNAME:UTC
DTSTART:20220101T000000
END:STANDARD
END:VTIMEZONE
BEGIN:VEVENT
DTSTART;TZID=UTC:20240131T140000
DTEND;TZID=UTC:20240131T150000
DTSTAMP:20260423T164040
CREATED:20231010T165936Z
LAST-MODIFIED:20231010T165936Z
UID:4156-1706709600-1706713200@vvlgardenclub.org
SUMMARY:January 31\, Growing Kids
DESCRIPTION:Growing Kids: Clearing the beds\, spring time soil amendments.
URL:https://vvlgardenclub.org/event/january-31-growing-kids/
LOCATION:VVL Community Garden
END:VEVENT
BEGIN:VEVENT
DTSTART;TZID=UTC:20240120T090000
DTEND;TZID=UTC:20240120T103000
DTSTAMP:20260423T164040
CREATED:20231010T165610Z
LAST-MODIFIED:20231010T165610Z
UID:4152-1705741200-1705746600@vvlgardenclub.org
SUMMARY:January Club Meeting
DESCRIPTION:VVL Garden Club- January Meeting.  Topic: What bugs ya?  Lessons we’ve learned about dealing with insects.
URL:https://vvlgardenclub.org/event/january-club-meeting/
LOCATION:VVL Community Garden
END:VEVENT
BEGIN:VEVENT
DTSTART;TZID=UTC:20240120T080000
DTEND;TZID=UTC:20240121T170000
DTSTAMP:20260423T164040
CREATED:20231010T165758Z
LAST-MODIFIED:20231010T165758Z
UID:4154-1705737600-1705856400@vvlgardenclub.org
SUMMARY:Rose Garden Prune Back 2
DESCRIPTION:Rose Garden Work Weekend- we need all the help we can get doing a major prune back of the Roses for their winter hibernation.  This is a massive undertaking and requires many days of labor and many hands.  Please join our thorn birds (community volunteers) and help us manage this beloved community amenity.
URL:https://vvlgardenclub.org/event/rose-garden-prune-back-2/
LOCATION:VVL Rose Garden
END:VEVENT
BEGIN:VEVENT
DTSTART;TZID=UTC:20240117T140000
DTEND;TZID=UTC:20240117T150000
DTSTAMP:20260423T164040
CREATED:20231010T165327Z
LAST-MODIFIED:20231010T165327Z
UID:4150-1705500000-1705503600@vvlgardenclub.org
SUMMARY:January 17\, Growing Kids
DESCRIPTION:Growing Kids: Weed\, Feed\, Seed.  Then… Another Seedling Take home project!
URL:https://vvlgardenclub.org/event/january-17-growing-kids/
LOCATION:VVL Community Garden
END:VEVENT
BEGIN:VEVENT
DTSTART;TZID=UTC:20240113T080000
DTEND;TZID=UTC:20240114T170000
DTSTAMP:20260423T164040
CREATED:20231010T165147Z
LAST-MODIFIED:20231010T165147Z
UID:4148-1705132800-1705251600@vvlgardenclub.org
SUMMARY:Rose Garden Prune Back 1
DESCRIPTION:Rose Garden Work Weekend- we need all the help we can get doing a major prune back of the Roses for their winter hibernation.  This is a massive undertaking and requires many days of labor and many hands.  Please join our thorn birds (community volunteers) and help us manage this beloved community amenity.
URL:https://vvlgardenclub.org/event/rose-garden-prune-back-1/
LOCATION:VVL Rose Garden
END:VEVENT
BEGIN:VEVENT
DTSTART;TZID=UTC:20240108T150000
DTEND;TZID=UTC:20240108T170000
DTSTAMP:20260423T164040
CREATED:20231010T164907Z
LAST-MODIFIED:20231010T164907Z
UID:4146-1704726000-1704733200@vvlgardenclub.org
SUMMARY:January Officer's Meeting
DESCRIPTION:Officer’s Meeting
URL:https://vvlgardenclub.org/event/january-officers-meeting/
LOCATION:Rachel’s House\, 1333 N Cliffside Dr\, Gilbert\, Az\, 85234\, United States
END:VEVENT
BEGIN:VEVENT
DTSTART;TZID=UTC:20240106T180000
DTEND;TZID=UTC:20240106T210000
DTSTAMP:20260423T164040
CREATED:20231010T164808Z
LAST-MODIFIED:20231010T164808Z
UID:4144-1704564000-1704574800@vvlgardenclub.org
SUMMARY:Winter Potluck (members only)
DESCRIPTION:VVL GC Winter Potluck- This quarter’s potluck is hosted by Donna Jean!
URL:https://vvlgardenclub.org/event/winter-potluck-members-only/
END:VEVENT
BEGIN:VEVENT
DTSTART;TZID=UTC:20240103T140000
DTEND;TZID=UTC:20240103T150000
DTSTAMP:20260423T164040
CREATED:20231010T164556Z
LAST-MODIFIED:20231010T164556Z
UID:4142-1704290400-1704294000@vvlgardenclub.org
SUMMARY:January 3\, Growing Kids
DESCRIPTION:Growing Kids: Weed\, Seed\, Feed.  More harvesting… then\, Square foot planning for Spring!
URL:https://vvlgardenclub.org/event/january-3-growing-kids/
LOCATION:VVL Community Garden
END:VEVENT
BEGIN:VEVENT
DTSTART;TZID=UTC:20231216T090000
DTEND;TZID=UTC:20231216T103000
DTSTAMP:20260423T164040
CREATED:20231010T153122Z
LAST-MODIFIED:20231010T153122Z
UID:4114-1702717200-1702722600@vvlgardenclub.org
SUMMARY:December 2023 Club Meeting
DESCRIPTION:December Club Meeting: Garden Club holiday Harvest.  Learn how to harvest and process herbs\, blanching broccoli for storage.
URL:https://vvlgardenclub.org/event/december-2023-club-meeting/
LOCATION:VVL Community Garden
END:VEVENT
BEGIN:VEVENT
DTSTART;TZID=UTC:20231213T140000
DTEND;TZID=UTC:20231213T150000
DTSTAMP:20260423T164040
CREATED:20231010T152920Z
LAST-MODIFIED:20231010T152920Z
UID:4112-1702476000-1702479600@vvlgardenclub.org
SUMMARY:December 13\, Growing Kids
DESCRIPTION:Growing Kids:  Weed\, Seed\, Feed.  Then… Winter Harvest.  How much food have we grown?
URL:https://vvlgardenclub.org/event/december-13-growing-kids/
LOCATION:VVL Community Garden
END:VEVENT
BEGIN:VEVENT
DTSTART;TZID=UTC:20231209T080000
DTEND;TZID=UTC:20231209T110000
DTSTAMP:20260423T164040
CREATED:20231010T152720Z
LAST-MODIFIED:20231010T152801Z
UID:4109-1702108800-1702119600@vvlgardenclub.org
SUMMARY:December Rose Garden Workday
DESCRIPTION:Rose Garden Workday: Come join our thornbirds and learn a little about rose maintenance through some hands on work with community volunteers.
URL:https://vvlgardenclub.org/event/december-rose-garden-workday/
LOCATION:VVL Rose Garden
END:VEVENT
BEGIN:VEVENT
DTSTART;TZID=UTC:20231204T150000
DTEND;TZID=UTC:20231204T170000
DTSTAMP:20260423T164040
CREATED:20231010T152628Z
LAST-MODIFIED:20231010T152628Z
UID:4107-1701702000-1701709200@vvlgardenclub.org
SUMMARY:December 2023\, Officer's Meeting
DESCRIPTION:December Officer’s meeting.
URL:https://vvlgardenclub.org/event/december-2023-officers-meeting/
LOCATION:Rachel’s House\, 1333 N Cliffside Dr\, Gilbert\, Az\, 85234\, United States
END:VEVENT
BEGIN:VEVENT
DTSTART;TZID=UTC:20231129T140000
DTEND;TZID=UTC:20231129T150000
DTSTAMP:20260423T164040
CREATED:20231010T150845Z
LAST-MODIFIED:20231010T150845Z
UID:4105-1701266400-1701270000@vvlgardenclub.org
SUMMARY:November 29\, Growing Kids
DESCRIPTION:Growing Kids: Weed\, Feed\, Seed!  Then… Good bugs and bad bugs\, who is who?
URL:https://vvlgardenclub.org/event/november-29-growing-kids/
LOCATION:VVL Community Garden
END:VEVENT
BEGIN:VEVENT
DTSTART;TZID=UTC:20231118T090000
DTEND;TZID=UTC:20231118T100000
DTSTAMP:20260423T164040
CREATED:20231010T150732Z
LAST-MODIFIED:20231010T150732Z
UID:4103-1700298000-1700301600@vvlgardenclub.org
SUMMARY:2023 Annual Club Meeting
DESCRIPTION:Garden Club November 2023 meeting.  The November meeting is our annual meeting.  At this meeting we will take the vote for the club officers.  At this meeting\, we will be learning how to cook with fresh herbs as taught by Rachel.  Location TBD\, but may be at Rachel’s home.
URL:https://vvlgardenclub.org/event/2023-annual-club-meeting/
END:VEVENT
BEGIN:VEVENT
DTSTART;TZID=UTC:20231115T140000
DTEND;TZID=UTC:20231115T170000
DTSTAMP:20260423T164040
CREATED:20231010T150325Z
LAST-MODIFIED:20231010T150325Z
UID:4101-1700056800-1700067600@vvlgardenclub.org
SUMMARY:November 15\, Growing Kids
DESCRIPTION:Growing Kids: Weed\, Feed\, Seed.  Then… How to make use of what you grow.  A simple cooking lesson.
URL:https://vvlgardenclub.org/event/november-15-growing-kids/
LOCATION:VVL Community Garden
END:VEVENT
BEGIN:VEVENT
DTSTART;TZID=UTC:20231111T080000
DTEND;TZID=UTC:20231111T110000
DTSTAMP:20260423T164040
CREATED:20231010T150137Z
LAST-MODIFIED:20231010T150137Z
UID:4099-1699689600-1699700400@vvlgardenclub.org
SUMMARY:November 2023\, Rose Garden Workday
DESCRIPTION:Rose Garden Workday: Come join our thornbirds and learn a little about rose maintenance through some hands on work with community volunteers.
URL:https://vvlgardenclub.org/event/november-2023-rose-garden-workday/
LOCATION:VVL Rose Garden
END:VEVENT
BEGIN:VEVENT
DTSTART;TZID=UTC:20231106T150000
DTEND;TZID=UTC:20231106T170000
DTSTAMP:20260423T164040
CREATED:20231010T145940Z
LAST-MODIFIED:20231010T145940Z
UID:4096-1699282800-1699290000@vvlgardenclub.org
SUMMARY:November 2023\, Officer's Meeting
DESCRIPTION:VVL Garden Club Officer’s meeting.
URL:https://vvlgardenclub.org/event/november-2023-officers-meeting/
LOCATION:Rachel’s House\, 1333 N Cliffside Dr\, Gilbert\, Az\, 85234\, United States
END:VEVENT
BEGIN:VEVENT
DTSTART;TZID=UTC:20231101T140000
DTEND;TZID=UTC:20231101T150000
DTSTAMP:20260423T164040
CREATED:20231010T145620Z
LAST-MODIFIED:20231010T145620Z
UID:4094-1698847200-1698850800@vvlgardenclub.org
SUMMARY:November 1\, Growing Kids
DESCRIPTION:Growing Kids: Weed\, Seed\, Feed!  Then… WORMS!  Let’s explore vermicomposting together!
URL:https://vvlgardenclub.org/event/november-1-growing-kids/
LOCATION:VVL Community Garden
END:VEVENT
BEGIN:VEVENT
DTSTART;TZID=UTC:20231021T090000
DTEND;TZID=UTC:20231021T103000
DTSTAMP:20260423T164040
CREATED:20231010T144620Z
LAST-MODIFIED:20231010T144620Z
UID:4085-1697878800-1697884200@vvlgardenclub.org
SUMMARY:October 2023 Club Meeting
DESCRIPTION:Club Meeting in the Garden: Join us as we replant any squares which aren’t coming along and finally get to plant our garlic bulbs!
URL:https://vvlgardenclub.org/event/october-2023-club-meeting/
LOCATION:VVL Community Garden
END:VEVENT
BEGIN:VEVENT
DTSTART;TZID=UTC:20231018T140000
DTEND;TZID=UTC:20231018T150000
DTSTAMP:20260423T164040
CREATED:20231010T145421Z
LAST-MODIFIED:20231010T145421Z
UID:4092-1697637600-1697641200@vvlgardenclub.org
SUMMARY:October 18\, Growing Kids
DESCRIPTION:Growing Kids: Weed\, Seed\, Feed!  reiterating the weed\, seed\, feed concept.  Learning about soil microbes and what plants eat.
URL:https://vvlgardenclub.org/event/october-18-growing-kids/
LOCATION:VVL Community Garden
END:VEVENT
BEGIN:VEVENT
DTSTART;TZID=UTC:20231014T080000
DTEND;TZID=UTC:20231014T110000
DTSTAMP:20260423T164040
CREATED:20231010T145012Z
LAST-MODIFIED:20231010T145012Z
UID:4088-1697270400-1697281200@vvlgardenclub.org
SUMMARY:October 2023 Rose Garden WorkDay
DESCRIPTION:Rose Garden Work Day! Come join our thorn birds and learn a little about rose maintenance through some hands on work with community volunteers.
URL:https://vvlgardenclub.org/event/october-2023-rose-garden-workday/
LOCATION:VVL Rose Garden
END:VEVENT
BEGIN:VEVENT
DTSTART;TZID=UTC:20230603T090000
DTEND;TZID=UTC:20230603T103000
DTSTAMP:20260423T164040
CREATED:20230124T010207Z
LAST-MODIFIED:20230124T010207Z
UID:4007-1685782800-1685788200@vvlgardenclub.org
SUMMARY:VVL Community Garden Open Hours
DESCRIPTION:The First Saturday of every month\, join Amanda Lindquist\, Master Gardener in the Community garden.  Ask questions\, help with garden maintenance\, enjoy the view!
URL:https://vvlgardenclub.org/event/vvl-community-garden-open-hours-6/
LOCATION:VVL Community Garden
END:VEVENT
BEGIN:VEVENT
DTSTART;TZID=UTC:20230506T090000
DTEND;TZID=UTC:20230506T103000
DTSTAMP:20260423T164040
CREATED:20230124T010113Z
LAST-MODIFIED:20230124T010113Z
UID:4005-1683363600-1683369000@vvlgardenclub.org
SUMMARY:VVL Community Garden Open Hours
DESCRIPTION:The First Saturday of every month\, join Amanda Lindquist\, Master Gardener in the Community garden.  Ask questions\, help with garden maintenance\, enjoy the view!
URL:https://vvlgardenclub.org/event/vvl-community-garden-open-hours-5/
LOCATION:VVL Community Garden
END:VEVENT
BEGIN:VEVENT
DTSTART;TZID=UTC:20230415T180000
DTEND;TZID=UTC:20230415T210000
DTSTAMP:20260423T164040
CREATED:20230124T011155Z
LAST-MODIFIED:20230124T011155Z
UID:4013-1681581600-1681592400@vvlgardenclub.org
SUMMARY:Garden Gnomes at Night!
DESCRIPTION:Come join us the 3rd Saturday of the month for our VVL Garden Club meetings!  In April\, we’ve decided to get together to eat\, chat\, and be merry under the twinkling lights.  Come join us as we enjoy the evening spring air in the garden surrounded by friends and garden beauty!
URL:https://vvlgardenclub.org/event/garden-gnomes-at-night/
LOCATION:VVL Community Garden
END:VEVENT
BEGIN:VEVENT
DTSTART;TZID=UTC:20230401T090000
DTEND;TZID=UTC:20230401T103000
DTSTAMP:20260423T164040
CREATED:20230124T010014Z
LAST-MODIFIED:20230124T010014Z
UID:4003-1680339600-1680345000@vvlgardenclub.org
SUMMARY:VVL Community Garden Open Hours
DESCRIPTION:The First Saturday of every month\, join Amanda Lindquist\, Master Gardener in the Community garden.  Ask questions\, help with garden maintenance\, enjoy the view!
URL:https://vvlgardenclub.org/event/vvl-community-garden-open-hours-4/
LOCATION:VVL Community Garden
END:VEVENT
BEGIN:VEVENT
DTSTART;TZID=UTC:20230318T080000
DTEND;TZID=UTC:20230318T170000
DTSTAMP:20260423T164040
CREATED:20230124T010828Z
LAST-MODIFIED:20230124T010828Z
UID:4011-1679126400-1679158800@vvlgardenclub.org
SUMMARY:Maintenance Day in the Garden
DESCRIPTION:Come join us the 3rd Saturday of the month for our VVL Garden Club meetings!  It’s Maintenance Day in the garden! Please consider joining us as we wash and touch up the fence\, re-seal the beds with organic “salad dressing”\, freshen the quarter-minus rock in the pathways\, pull weeds\, and tidy up!  We need all the help we can get on maintenance day.
URL:https://vvlgardenclub.org/event/maintenance-day-in-the-garden/
LOCATION:VVL Community Garden
END:VEVENT
BEGIN:VEVENT
DTSTART;TZID=UTC:20230304T090000
DTEND;TZID=UTC:20230304T103000
DTSTAMP:20260423T164040
CREATED:20230124T005924Z
LAST-MODIFIED:20230124T005924Z
UID:4001-1677920400-1677925800@vvlgardenclub.org
SUMMARY:VVL Community Garden Open Hours
DESCRIPTION:The First Saturday of every month\, join Amanda Lindquist\, Master Gardener in the Community garden.  Ask questions\, help with garden maintenance\, enjoy the view!
URL:https://vvlgardenclub.org/event/vvl-community-garden-open-hours-3/
END:VEVENT
BEGIN:VEVENT
DTSTART;TZID=UTC:20230218T090000
DTEND;TZID=UTC:20230218T103000
DTSTAMP:20260423T164040
CREATED:20230124T010531Z
LAST-MODIFIED:20230201T072654Z
UID:4009-1676710800-1676716200@vvlgardenclub.org
SUMMARY:Spring Planting in the Garden
DESCRIPTION:Come join us the 3rd Saturday of the month for our VVL Garden Club meetings!  In February\, we’re getting together to change out our beds for the spring season.  Come join us for tips and tricks as we play in the soil together!
URL:https://vvlgardenclub.org/event/spring-planting-in-the-garden/
LOCATION:VVL Community Garden
ATTACH;FMTTYPE=image/png:https://vvlgardenclub.org/wp-content/uploads/2023/01/Screen-Shot-2023-01-23-at-5.13.33-PM.png
END:VEVENT
BEGIN:VEVENT
DTSTART;TZID=UTC:20230204T090000
DTEND;TZID=UTC:20230204T100000
DTSTAMP:20260423T164040
CREATED:20230124T005734Z
LAST-MODIFIED:20230124T005734Z
UID:3996-1675501200-1675504800@vvlgardenclub.org
SUMMARY:VVL Community Garden Open Hours
DESCRIPTION:The First Saturday of every month\, join Amanda Lindquist\, Master Gardener in the Community garden.  Ask questions\, help with garden maintenance\, enjoy the view!
URL:https://vvlgardenclub.org/event/vvl-community-garden-open-hours/
LOCATION:VVL Community Garden
END:VEVENT
END:VCALENDAR